BEGIN:VCALENDAR
VERSION:2.0
PRODID:-//Fuß- und Radentscheid Freiburg - ECPv5.14.1//NONSGML v1.0//EN
CALSCALE:GREGORIAN
METHOD:PUBLISH
X-WR-CALNAME:Fuß- und Radentscheid Freiburg
X-ORIGINAL-URL:https://fr-entscheid.de
X-WR-CALDESC:Veranstaltungen für Fuß- und Radentscheid Freiburg
BEGIN:VTIMEZONE
TZID:Europe/Helsinki
BEGIN:DAYLIGHT
TZOFFSETFROM:+0200
TZOFFSETTO:+0300
TZNAME:EEST
DTSTART:20200329T010000
END:DAYLIGHT
BEGIN:STANDARD
TZOFFSETFROM:+0300
TZOFFSETTO:+0200
TZNAME:EET
DTSTART:20201025T010000
END:STANDARD
END:VTIMEZONE
BEGIN:VEVENT
DTSTART;TZID=Europe/Helsinki:20200814T170000
DTEND;TZID=Europe/Helsinki:20200814T190000
DTSTAMP:20260421T110845
CREATED:20200711T162908Z
LAST-MODIFIED:20200810T155959Z
UID:1729-1597424400-1597431600@fr-entscheid.de
SUMMARY:Demo mit FFF: Kein Klimaschutz ohne Verkehrswende!
DESCRIPTION:Jeden 2. Freitag im Monat findet zusammen mit Fridays for Future eine Fahrraddemo statt. Das Motto: “Kein Klimaschutz ohne Verkehrswende”. Wir demonstrieren so lange\, bis die Stadt die Verkehrswende beherzt einleitet. \nGemeinsam für mehr Klimaschutz\, gemeinsam für ein fuß- und fahrradfreundliches Freiburg; diese Ziele verbinden die Aktivist*innen von Fridays for Future mit den Initiator*innen des Bürgerbegehrens für ein fuß- und fahrradfreundliches Freiburg. \nUm unseren Forderungen nach einer veränderten Mobilitätsplanung und -politik Nachdruck zu verleihen\, findet am 14. August 2020 ab 17 Uhr zum zweiten mal eine gemeinsame große Fahrraddemonstration von Fridays for Future und dem Fuß- und Radentscheid statt. Jeden zweiten Freitag im Monat werden wir künftig für eine bessere Mobilitätspolitik in Freiburg demonstrieren. \nEinen kleinen Bericht von der ersten Demo findet ihr hier.
URL:https://fr-entscheid.de/event/demo-mit-fff-kein-klimaschutz-ohne-verkehrswende/
LOCATION:Platz der Alten Synagoge\, Bertholdstr. 30\, Freiburg\, 79098\, Deutschland
END:VEVENT
END:VCALENDAR