BEGIN:VCALENDAR
VERSION:2.0
PRODID:-//Fuß- und Radentscheid Freiburg - ECPv5.14.1//NONSGML v1.0//EN
CALSCALE:GREGORIAN
METHOD:PUBLISH
X-WR-CALNAME:Fuß- und Radentscheid Freiburg
X-ORIGINAL-URL:https://fr-entscheid.de
X-WR-CALDESC:Veranstaltungen für Fuß- und Radentscheid Freiburg
BEGIN:VTIMEZONE
TZID:UTC
BEGIN:STANDARD
TZOFFSETFROM:+0000
TZOFFSETTO:+0000
TZNAME:UTC
DTSTART:20200101T000000
END:STANDARD
END:VTIMEZONE
BEGIN:VEVENT
DTSTART;VALUE=DATE:20200315
DTEND;VALUE=DATE:20200316
DTSTAMP:20260422T234301
CREATED:20200315T173103Z
LAST-MODIFIED:20200315T173524Z
UID:960-1584230400-1584316799@fr-entscheid.de
SUMMARY:Alle geplanten Veranstaltungen sind bis auf weiteres abgesagt
DESCRIPTION:Aufgrund der aktuellen Gesundheitslage sind alle geplanten Veranstaltungen sind bis auf weiteres abgesagt.
URL:https://fr-entscheid.de/event/alle-geplanten-veranstaltungen-sind-bis-auf-weiteres-abgesagt/
END:VEVENT
END:VCALENDAR